BEGIN:VCALENDAR
VERSION:2.0
PRODID:-//Association Suisse de Sous-officiers, section de Genève - ECPv6.15.20//NONSGML v1.0//EN
CALSCALE:GREGORIAN
METHOD:PUBLISH
X-WR-CALNAME:Association Suisse de Sous-officiers, section de Genève
X-ORIGINAL-URL:https://asso-geneve.ch
X-WR-CALDESC:Évènements pour Association Suisse de Sous-officiers, section de Genève
REFRESH-INTERVAL;VALUE=DURATION:PT1H
X-Robots-Tag:noindex
X-PUBLISHED-TTL:PT1H
BEGIN:VTIMEZONE
TZID:Europe/Zurich
BEGIN:DAYLIGHT
TZOFFSETFROM:+0100
TZOFFSETTO:+0200
TZNAME:CEST
DTSTART:20250330T010000
END:DAYLIGHT
BEGIN:STANDARD
TZOFFSETFROM:+0200
TZOFFSETTO:+0100
TZNAME:CET
DTSTART:20251026T010000
END:STANDARD
BEGIN:DAYLIGHT
TZOFFSETFROM:+0100
TZOFFSETTO:+0200
TZNAME:CEST
DTSTART:20260329T010000
END:DAYLIGHT
BEGIN:STANDARD
TZOFFSETFROM:+0200
TZOFFSETTO:+0100
TZNAME:CET
DTSTART:20261025T010000
END:STANDARD
BEGIN:DAYLIGHT
TZOFFSETFROM:+0100
TZOFFSETTO:+0200
TZNAME:CEST
DTSTART:20270328T010000
END:DAYLIGHT
BEGIN:STANDARD
TZOFFSETFROM:+0200
TZOFFSETTO:+0100
TZNAME:CET
DTSTART:20271031T010000
END:STANDARD
END:VTIMEZONE
BEGIN:VEVENT
DTSTART;TZID=Europe/Zurich:20260426T070000
DTEND;TZID=Europe/Zurich:20260426T120000
DTSTAMP:20260419T205310
CREATED:20260217T200255Z
LAST-MODIFIED:20260217T200255Z
UID:1583-1777186800-1777204800@asso-geneve.ch
SUMMARY:Entraînement de marche VII
DESCRIPTION:Venez refaire le monde avec vos camarades lors d’une marche conviviale. \nLes entraînements de marche sont le moment idéal pour faire connaissance avec les membre de l’ASSO GE\, tisser des liens forts et s’impliquer plus amplement dans la vie de l’ASSO GE. \nCes entraînements sont nécessaires pour participer aux 4 jours de Nimègue. \nLes entraînements ont généralement lieu à Genève ou à Lausanne (un sympathique village en périphérie du Grand Genève).
URL:https://asso-geneve.ch/event/entrainement-de-marche-vii/
CATEGORIES:Marche
ATTACH;FMTTYPE=image/jpeg:https://asso-geneve.ch/wp-content/uploads/2024/12/threema-20241222-202923143.jpg
END:VEVENT
BEGIN:VEVENT
DTSTART;TZID=Europe/Zurich:20260502T073000
DTEND;TZID=Europe/Zurich:20260502T190000
DTSTAMP:20260419T205310
CREATED:20260217T200553Z
LAST-MODIFIED:20260217T200553Z
UID:1585-1777707000-1777748400@asso-geneve.ch
SUMMARY:Marche Dufour
DESCRIPTION:La marche genevoise en l’honneur du général Dufour. \nToutes les informations sont disponibles sur la page dédiée.
URL:https://asso-geneve.ch/event/marche-dufour/
CATEGORIES:Marche
ATTACH;FMTTYPE=image/jpeg:https://asso-geneve.ch/wp-content/uploads/2024/12/threema-20241222-205932542.jpg
END:VEVENT
BEGIN:VEVENT
DTSTART;TZID=Europe/Zurich:20260520T170000
DTEND;TZID=Europe/Zurich:20260520T210000
DTSTAMP:20260419T205310
CREATED:20260217T194400Z
LAST-MODIFIED:20260217T194400Z
UID:1559-1779296400-1779310800@asso-geneve.ch
SUMMARY:Tir KD Box / piste A
DESCRIPTION:Tir KDBox ou piste A au stand des Raclerets\, Chancy. \nMise en place dès 1700\, l’aide de volontaires est la bienvenue. \nOuverture du feu à 1800.
URL:https://asso-geneve.ch/event/tir-kd-box-piste-a/
LOCATION:Raclerets\, Stand de tir Chancy\, Chancy\, 1284\, Switzerland
CATEGORIES:Tir
ATTACH;FMTTYPE=image/jpeg:https://asso-geneve.ch/wp-content/uploads/2024/12/threema-20241222-202551335-scaled.jpg
END:VEVENT
BEGIN:VEVENT
DTSTART;TZID=Europe/Zurich:20260524T070000
DTEND;TZID=Europe/Zurich:20260524T120000
DTSTAMP:20260419T205310
CREATED:20260217T200724Z
LAST-MODIFIED:20260217T200724Z
UID:1587-1779606000-1779624000@asso-geneve.ch
SUMMARY:Entraînement de marche VIII
DESCRIPTION:Venez refaire le monde avec vos camarades lors d’une marche conviviale. \nLes entraînements de marche sont le moment idéal pour faire connaissance avec les membre de l’ASSO GE\, tisser des liens forts et s’impliquer plus amplement dans la vie de l’ASSO GE. \nCes entraînements sont nécessaires pour participer aux 4 jours de Nimègue. \nLes entraînements ont généralement lieu à Genève ou à Lausanne (un sympathique village en périphérie du Grand Genève).
URL:https://asso-geneve.ch/event/entrainement-de-marche-viii/
CATEGORIES:Marche
ATTACH;FMTTYPE=image/jpeg:https://asso-geneve.ch/wp-content/uploads/2024/12/threema-20241222-202923143.jpg
END:VEVENT
BEGIN:VEVENT
DTSTART;VALUE=DATE:20260613
DTEND;VALUE=DATE:20260615
DTSTAMP:20260419T205310
CREATED:20260217T200858Z
LAST-MODIFIED:20260217T200858Z
UID:1589-1781308800-1781481599@asso-geneve.ch
SUMMARY:Marche des 2 jours de Berne (Schweizer Zweitagemarsch)
DESCRIPTION:La marche de deux fois 40 km pour se qualifier pour Nimègue.
URL:https://asso-geneve.ch/event/marche-des-2-jours-de-berne-schweizer-zweitagemarsch/
LOCATION:MK Berne\, Mannschaftkaserne\, Papiermühlestrasse\, Bern\, 3014\, Switzerland
CATEGORIES:Marche
ATTACH;FMTTYPE=image/jpeg:https://asso-geneve.ch/wp-content/uploads/2024/12/threema-20241222-203040781.jpg
END:VEVENT
BEGIN:VEVENT
DTSTART;TZID=Europe/Zurich:20260624T170000
DTEND;TZID=Europe/Zurich:20260624T210000
DTSTAMP:20260419T205310
CREATED:20260217T194640Z
LAST-MODIFIED:20260217T194640Z
UID:1561-1782320400-1782334800@asso-geneve.ch
SUMMARY:Tir de combat sur piste A
DESCRIPTION:Tir de combat sur piste A au stand des Raclerets\, Chancy. \nMise en place dès 1700\, l’aide de volontaires est la bienvenue. \nOuverture du feu à 1800.
URL:https://asso-geneve.ch/event/tir-de-combat-sur-piste-a/
LOCATION:Raclerets\, Stand de tir Chancy\, Chancy\, 1284\, Switzerland
CATEGORIES:Tir
ATTACH;FMTTYPE=image/jpeg:https://asso-geneve.ch/wp-content/uploads/2024/12/IMG-20210814-WA0012.jpg
END:VEVENT
BEGIN:VEVENT
DTSTART;TZID=Europe/Zurich:20260705T070000
DTEND;TZID=Europe/Zurich:20260705T120000
DTSTAMP:20260419T205310
CREATED:20260217T201003Z
LAST-MODIFIED:20260217T201003Z
UID:1591-1783234800-1783252800@asso-geneve.ch
SUMMARY:Entraînement de marche IX
DESCRIPTION:Venez refaire le monde avec vos camarades lors d’une marche conviviale. \nLes entraînements de marche sont le moment idéal pour faire connaissance avec les membre de l’ASSO GE\, tisser des liens forts et s’impliquer plus amplement dans la vie de l’ASSO GE. \nCes entraînements sont nécessaires pour participer aux 4 jours de Nimègue. \nLes entraînements ont généralement lieu à Genève ou à Lausanne (un sympathique village en périphérie du Grand Genève).
URL:https://asso-geneve.ch/event/entrainement-de-marche-ix/
CATEGORIES:Marche
ATTACH;FMTTYPE=image/jpeg:https://asso-geneve.ch/wp-content/uploads/2024/12/threema-20241222-202923143.jpg
END:VEVENT
BEGIN:VEVENT
DTSTART;VALUE=DATE:20260718
DTEND;VALUE=DATE:20260726
DTSTAMP:20260419T205310
CREATED:20260217T201258Z
LAST-MODIFIED:20260217T201258Z
UID:1593-1784332800-1785023999@asso-geneve.ch
SUMMARY:Marche des 4 jours de Nimègue
DESCRIPTION:Le Graal de ceux qui ont manifestement du plaisir à mettre un pied devant l’autre. \nLa marche a lieu du 21 au 24 juillet\, et la délégation suisse se rend à Nimègue du samedi d’avant au samedi d’après.
URL:https://asso-geneve.ch/event/marche-des-4-jours-de-nimegue/
LOCATION:Nijmegen\, Nijmegen\, Netherlands
CATEGORIES:Marche
ATTACH;FMTTYPE=image/jpeg:https://asso-geneve.ch/wp-content/uploads/2025/12/IMG-20250716-WA0027-scaled.jpg
END:VEVENT
BEGIN:VEVENT
DTSTART;TZID=Europe/Zurich:20260804T170000
DTEND;TZID=Europe/Zurich:20260804T210000
DTSTAMP:20260419T205310
CREATED:20260217T194754Z
LAST-MODIFIED:20260217T194754Z
UID:1563-1785862800-1785877200@asso-geneve.ch
SUMMARY:Tir KD Box / piste A
DESCRIPTION:Tir KDBox ou piste A au stand des Raclerets\, Chancy. \nMise en place dès 1700\, l’aide de volontaires est la bienvenue. \nOuverture du feu à 1800.
URL:https://asso-geneve.ch/event/tir-kd-box-piste-a-2/
LOCATION:Raclerets\, Stand de tir Chancy\, Chancy\, 1284\, Switzerland
CATEGORIES:Tir
ATTACH;FMTTYPE=image/jpeg:https://asso-geneve.ch/wp-content/uploads/2024/12/threema-20241222-202551335-scaled.jpg
END:VEVENT
BEGIN:VEVENT
DTSTART;TZID=Europe/Zurich:20261028T170000
DTEND;TZID=Europe/Zurich:20261028T210000
DTSTAMP:20260419T205310
CREATED:20260217T194843Z
LAST-MODIFIED:20260217T194843Z
UID:1565-1793206800-1793221200@asso-geneve.ch
SUMMARY:Tir KD Box
DESCRIPTION:Tir KDBox au stand des Raclerets\, Chancy. \nMise en place dès 1700\, l’aide de volontaires est la bienvenue. \nOuverture du feu à 1800.
URL:https://asso-geneve.ch/event/tir-kd-box/
LOCATION:Raclerets\, Stand de tir Chancy\, Chancy\, 1284\, Switzerland
CATEGORIES:Tir
ATTACH;FMTTYPE=image/jpeg:https://asso-geneve.ch/wp-content/uploads/2024/12/threema-20241222-202551335-scaled.jpg
END:VEVENT
BEGIN:VEVENT
DTSTART;TZID=Europe/Zurich:20261208T170000
DTEND;TZID=Europe/Zurich:20261208T210000
DTSTAMP:20260419T205310
CREATED:20260217T195051Z
LAST-MODIFIED:20260217T195051Z
UID:1567-1796749200-1796763600@asso-geneve.ch
SUMMARY:Tir KD Box de nuit\, fondue et marmite de l'Escalade
DESCRIPTION:Tir KDBox au stand des Raclerets\, Chancy. \nMise en place dès 1700\, l’aide de volontaires est la bienvenue. \nOuverture du feu à 1800. \nAprès le tir\, la traditionnelle fondue est organisée sur place\, suivie de la marmite de l’Escalade.
URL:https://asso-geneve.ch/event/tir-kd-box-de-nuit-fondue-et-marmite-de-lescalade/
LOCATION:Raclerets\, Stand de tir Chancy\, Chancy\, 1284\, Switzerland
CATEGORIES:Tir
ATTACH;FMTTYPE=image/jpeg:https://asso-geneve.ch/wp-content/uploads/2024/12/threema-20241222-202551335-scaled.jpg
END:VEVENT
END:VCALENDAR