BEGIN:VCALENDAR
VERSION:2.0
PRODID:-//Association Suisse de Sous-officiers, section de Genève - ECPv6.15.20//NONSGML v1.0//EN
CALSCALE:GREGORIAN
METHOD:PUBLISH
X-ORIGINAL-URL:https://asso-geneve.ch
X-WR-CALDESC:Évènements pour Association Suisse de Sous-officiers, section de Genève
REFRESH-INTERVAL;VALUE=DURATION:PT1H
X-Robots-Tag:noindex
X-PUBLISHED-TTL:PT1H
BEGIN:VTIMEZONE
TZID:Europe/Zurich
BEGIN:DAYLIGHT
TZOFFSETFROM:+0100
TZOFFSETTO:+0200
TZNAME:CEST
DTSTART:20240331T010000
END:DAYLIGHT
BEGIN:STANDARD
TZOFFSETFROM:+0200
TZOFFSETTO:+0100
TZNAME:CET
DTSTART:20241027T010000
END:STANDARD
BEGIN:DAYLIGHT
TZOFFSETFROM:+0100
TZOFFSETTO:+0200
TZNAME:CEST
DTSTART:20250330T010000
END:DAYLIGHT
BEGIN:STANDARD
TZOFFSETFROM:+0200
TZOFFSETTO:+0100
TZNAME:CET
DTSTART:20251026T010000
END:STANDARD
BEGIN:DAYLIGHT
TZOFFSETFROM:+0100
TZOFFSETTO:+0200
TZNAME:CEST
DTSTART:20260329T010000
END:DAYLIGHT
BEGIN:STANDARD
TZOFFSETFROM:+0200
TZOFFSETTO:+0100
TZNAME:CET
DTSTART:20261025T010000
END:STANDARD
END:VTIMEZONE
BEGIN:VEVENT
DTSTART;TZID=Europe/Zurich:20251230T170000
DTEND;TZID=Europe/Zurich:20251230T180000
DTSTAMP:20260419T230236
CREATED:20241222T191647Z
LAST-MODIFIED:20241222T191840Z
UID:1352-1767114000-1767117600@asso-geneve.ch
SUMMARY:Cérémonie de la Restauration
DESCRIPTION:
URL:https://asso-geneve.ch/event/ceremonie-de-la-restauration/
LOCATION:Esplanade de la Treille\, Esplanade d ela Treille\, Genève\, Switzerland
CATEGORIES:Évènement
ATTACH;FMTTYPE=image/jpeg:https://asso-geneve.ch/wp-content/uploads/2024/12/IMG-20221230-WA0023.jpg
END:VEVENT
END:VCALENDAR